BEGIN:VCALENDAR
VERSION:2.0
PRODID:-//Intand Corporation//Tandem//EN
METHOD:PUBLISH
BEGIN:VEVENT
DTSTAMP:20260422T064952Z
DTSTART:20261012T200000Z
DTEND:20261012T210000Z
TRANSP:TRANSPARENT
PRIORITY:0
SUMMARY:Emmaus High School FB B JH Away Whitehall High School
LOCATION:Whitehall
DESCRIPTION:Groups:\nEHS Football Jr High (Away)\n\nSchools:\nWhitehall Hs
  (Home)\nEmmaus High School (Away)\n\nLocation:\nWhitehall\n\n
URL;VALUE=URI:http://epennemmaushigh.tandem.co/index.php?type=view&action=
 event&id=6603850
CREATED:20260412T030752Z
LAST-MODIFIED:20260412T030752Z
UID:event-6603850-epennemmaushigh@intand.com
END:VEVENT
END:VCALENDAR
