BEGIN:VCALENDAR
VERSION:2.0
PRODID:-//Intand Corporation//Tandem//EN
METHOD:PUBLISH
BEGIN:VEVENT
DTSTAMP:20260422T041812Z
DTSTART:20260418T140000Z
DTEND:20260418T150000Z
TRANSP:TRANSPARENT
PRIORITY:0
SUMMARY:Emmaus High School T B V Away OPEN (Southern Lehigh Invite)
LOCATION:Southern Lehigh Intermediate School
DESCRIPTION:Groups:\nEHS Track and Field Boys (Away)\n\nSchools:\nEmmaus H
 igh School (Away)\n\nLocation:\nSouthern Lehigh Intermediate School\n\n
URL;VALUE=URI:http://epennemmaushigh.tandem.co/index.php?type=view&action=
 event&id=6410556
CREATED:20260212T201033Z
LAST-MODIFIED:20260308T110812Z
UID:event-6410556-epennemmaushigh@intand.com
END:VEVENT
END:VCALENDAR
