BEGIN:VCALENDAR
VERSION:2.0
PRODID:-//Intand Corporation//Tandem//EN
METHOD:PUBLISH
BEGIN:VEVENT
DTSTAMP:20260422T042545Z
DTSTART:20260330T213000Z
DTEND:20260330T223000Z
TRANSP:TRANSPARENT
PRIORITY:0
SUMMARY:Emmaus High School VB B V Away Delaware Valley HS
LOCATION:UNKNOWN
DESCRIPTION:Groups:\nEHS Volleyball Boys Varsity (Away)\n\nSchools:\nEmmau
 s High School (Away)\n\nLocation:\nUNKNOWN\n\n
URL;VALUE=URI:http://epennemmaushigh.tandem.co/index.php?type=view&action=
 event&id=6388552
CREATED:20260205T201007Z
LAST-MODIFIED:20260308T110812Z
UID:event-6388552-epennemmaushigh@intand.com
END:VEVENT
END:VCALENDAR
