BEGIN:VCALENDAR
VERSION:2.0
PRODID:-//Intand Corporation//Tandem//EN
METHOD:PUBLISH
BEGIN:VEVENT
DTSTAMP:20260422T071156Z
DTSTART:20260506T200000Z
DTEND:20260506T210000Z
TRANSP:TRANSPARENT
PRIORITY:0
SUMMARY:Emmaus High School VB B LM Away Eyer Middle School
LOCATION:Eyer Gym\, Eyer Middle School
DESCRIPTION:Groups:\nLMMS Volleyball Boys (Away)\n\nSchools:\nEYER MS (Hom
 e)\n\nLocations:\nEyer Gym\nEyer Middle School\n\n
URL;VALUE=URI:http://epennemmaushigh.tandem.co/index.php?type=view&action=
 event&id=6039562
CREATED:20251106T000919Z
LAST-MODIFIED:20260308T110812Z
UID:event-6039562-epennemmaushigh@intand.com
END:VEVENT
END:VCALENDAR
