BEGIN:VCALENDAR
VERSION:2.0
PRODID:-//Intand Corporation//Tandem//EN
METHOD:PUBLISH
BEGIN:VEVENT
DTSTAMP:20260422T071155Z
DTSTART:20260504T200000Z
DTEND:20260504T210000Z
TRANSP:TRANSPARENT
PRIORITY:0
SUMMARY:Emmaus High School VB B LM Home Orefield Middle School
LOCATION:Lower Macungie Middle School
DESCRIPTION:Groups:\nLMMS Volleyball Boys (Home)\n\nSchools:\nOrefield Ms 
 (Away)\n\nLocation:\nLower Macungie Middle School\n\n
URL;VALUE=URI:http://epennemmaushigh.tandem.co/index.php?type=view&action=
 event&id=6030494
CREATED:20251104T000811Z
LAST-MODIFIED:20260308T110812Z
UID:event-6030494-epennemmaushigh@intand.com
END:VEVENT
END:VCALENDAR
