BEGIN:VCALENDAR
VERSION:2.0
PRODID:-//Intand Corporation//Tandem//EN
METHOD:PUBLISH
BEGIN:VEVENT
DTSTAMP:20260422T041819Z
DTSTART:20260423T223000Z
DTEND:20260423T233000Z
TRANSP:TRANSPARENT
PRIORITY:0
SUMMARY:Emmaus High School LAX B V Away Southern Lehigh
LOCATION:Southern Lehigh Intermediate School
DESCRIPTION:Groups:\nEHS Lacrosse Boys Varsity (Away)\n\nSchools:\nEmmaus 
 High School (Away)\n\nLocation:\nSouthern Lehigh Intermediate School\n\n
URL;VALUE=URI:http://epennemmaushigh.tandem.co/index.php?type=view&action=
 event&id=5978560
CREATED:20251023T030923Z
LAST-MODIFIED:20260308T110812Z
UID:event-5978560-epennemmaushigh@intand.com
END:VEVENT
END:VCALENDAR
